BEGIN:VCALENDAR
VERSION:2.0
PRODID:-//Nepali Calendar//EN
BEGIN:VEVENT
UID:9de04efee85ccae53f4940af3a06ad8f@nepalicalendar.com
DTSTAMP:20260421T181408Z
DTSTART;VALUE=DATE:20251016
DTEND;VALUE=DATE:20251017
SUMMARY:विश्व खाद्य दिवस
DESCRIPTION:विश्व खाद्य दिवस
END:VEVENT
END:VCALENDAR