BEGIN:VCALENDAR
VERSION:2.0
PRODID:-//Nepali Calendar//EN
BEGIN:VEVENT
UID:a8f36577a0d21c351908697d3bb21b36@nepalicalendar.com
DTSTAMP:20260421T181407Z
DTSTART;VALUE=DATE:20251015
DTEND;VALUE=DATE:20251016
SUMMARY:विश्व हातधुने दिवस
DESCRIPTION:विश्व हातधुने दिवस
END:VEVENT
END:VCALENDAR