BEGIN:VCALENDAR
VERSION:2.0
PRODID:-//Nepali Calendar//EN
BEGIN:VEVENT
UID:237dc97a5f99a64d763fc409a478d61c@nepalicalendar.com
DTSTAMP:20260422T005656Z
DTSTART;VALUE=DATE:20250601
DTEND;VALUE=DATE:20250602
SUMMARY:भोटो जात्रा
DESCRIPTION:भोटो जात्रा
END:VEVENT
END:VCALENDAR