BEGIN:VCALENDAR
VERSION:2.0
PRODID:-//Nepali Calendar//EN
BEGIN:VEVENT
UID:7728eed5bbacfa798890ae0a4434f42f@nepalicalendar.com
DTSTAMP:20260421T181315Z
DTSTART;VALUE=DATE:20251015
DTEND;VALUE=DATE:20251016
SUMMARY:अन्तर्राष्ट्रिय ग्रामीण महिला दिवस
DESCRIPTION:अन्तर्राष्ट्रिय ग्रामीण महिला दिवस
END:VEVENT
END:VCALENDAR