BEGIN:VCALENDAR
VERSION:2.0
PRODID:-//Nepali Calendar//EN
BEGIN:VEVENT
UID:9341263e7aab7a1000acbbf383d1568d@nepalicalendar.com
DTSTAMP:20260421T180932Z
DTSTART;VALUE=DATE:20251014
DTEND;VALUE=DATE:20251015
SUMMARY:राधाष्टमी व्रत
DESCRIPTION:राधाष्टमी व्रत
END:VEVENT
END:VCALENDAR