BEGIN:VCALENDAR
VERSION:2.0
PRODID:-//Nepali Calendar//EN
BEGIN:VEVENT
UID:4fa33e2763f3b1c1116c49f88cca43fe@nepalicalendar.com
DTSTAMP:20260421T180737Z
DTSTART;VALUE=DATE:20251014
DTEND;VALUE=DATE:20251015
SUMMARY:गोरखकाली पूजा
DESCRIPTION:गोरखकाली पूजा
END:VEVENT
END:VCALENDAR