BEGIN:VCALENDAR
VERSION:2.0
PRODID:-//Nepali Calendar//EN
BEGIN:VEVENT
UID:e15164fa769a4311f3e2dc4197338ac0@nepalicalendar.com
DTSTAMP:20260421T180820Z
DTSTART;VALUE=DATE:20251014
DTEND;VALUE=DATE:20251015
SUMMARY:भाैमाष्टमी व्रत
DESCRIPTION:भाैमाष्टमी व्रत
END:VEVENT
END:VCALENDAR