BEGIN:VCALENDAR
VERSION:2.0
PRODID:-//Nepali Calendar//EN
BEGIN:VEVENT
UID:2c8f6b4cf2ef396c6c04b6862693f913@nepalicalendar.com
DTSTAMP:20260421T180932Z
DTSTART;VALUE=DATE:20251013
DTEND;VALUE=DATE:20251014
SUMMARY:अन्तर्राष्ट्रिय प्रकोप जोखिम न्यूनीकरण दिवस
DESCRIPTION:अन्तर्राष्ट्रिय प्रकोप जोखिम न्यूनीकरण दिवस
END:VEVENT
END:VCALENDAR