BEGIN:VCALENDAR
VERSION:2.0
PRODID:-//Nepali Calendar//EN
BEGIN:VEVENT
UID:b038770138e4091f3a97dba638b5fb1f@nepalicalendar.com
DTSTAMP:20260421T181152Z
DTSTART;VALUE=DATE:20251011
DTEND;VALUE=DATE:20251012
SUMMARY:गैर आवासीय नेपाली दिवस
DESCRIPTION:गैर आवासीय नेपाली दिवस
END:VEVENT
END:VCALENDAR