BEGIN:VCALENDAR
VERSION:2.0
PRODID:-//Nepali Calendar//EN
BEGIN:VEVENT
UID:c9a19adde24b55e4def849afa84760a0@nepalicalendar.com
DTSTAMP:20260421T180657Z
DTSTART;VALUE=DATE:20251010
DTEND;VALUE=DATE:20251011
SUMMARY:विश्व मानसिक स्वास्थ्य दिवस
DESCRIPTION:विश्व मानसिक स्वास्थ्य दिवस
END:VEVENT
END:VCALENDAR