BEGIN:VCALENDAR
VERSION:2.0
PRODID:-//Nepali Calendar//EN
BEGIN:VEVENT
UID:3a2902ff4224783c3dc0ee9384347555@nepalicalendar.com
DTSTAMP:20260421T181035Z
DTSTART;VALUE=DATE:20251009
DTEND;VALUE=DATE:20251010
SUMMARY:विश्व दृष्टि दिवस
DESCRIPTION:विश्व दृष्टि दिवस
END:VEVENT
END:VCALENDAR