BEGIN:VCALENDAR
VERSION:2.0
PRODID:-//Nepali Calendar//EN
BEGIN:VEVENT
UID:4e18b2dd03668330bdf0f44385b01d44@nepalicalendar.com
DTSTAMP:20260421T180916Z
DTSTART;VALUE=DATE:20251009
DTEND;VALUE=DATE:20251010
SUMMARY:विश्व हुलाक दिवस
DESCRIPTION:विश्व हुलाक दिवस
END:VEVENT
END:VCALENDAR