BEGIN:VCALENDAR
VERSION:2.0
PRODID:-//Nepali Calendar//EN
BEGIN:VEVENT
UID:28d26e89ce684ffb034e11ff2bac3040@nepalicalendar.com
DTSTAMP:20260421T181152Z
DTSTART;VALUE=DATE:20251007
DTEND;VALUE=DATE:20251008
SUMMARY:कार्तिक स्नान
DESCRIPTION:कार्तिक स्नान
END:VEVENT
END:VCALENDAR