BEGIN:VCALENDAR
VERSION:2.0
PRODID:-//Nepali Calendar//EN
BEGIN:VEVENT
UID:b8754c17ae7858e56fc91c064d2362a6@nepalicalendar.com
DTSTAMP:20260422T010109Z
DTSTART;VALUE=DATE:20250531
DTEND;VALUE=DATE:20250601
SUMMARY:विश्व धुम्रपान रहित दिवस
DESCRIPTION:विश्व धुम्रपान रहित दिवस
END:VEVENT
END:VCALENDAR