BEGIN:VCALENDAR
VERSION:2.0
PRODID:-//Nepali Calendar//EN
BEGIN:VEVENT
UID:74a1f57dc3500acdb5919f1b8162bf3f@nepalicalendar.com
DTSTAMP:20260421T180916Z
DTSTART;VALUE=DATE:20251006
DTEND;VALUE=DATE:20251007
SUMMARY:कोजाग्रत व्रत
DESCRIPTION:कोजाग्रत व्रत
END:VEVENT
END:VCALENDAR