BEGIN:VCALENDAR
VERSION:2.0
PRODID:-//Nepali Calendar//EN
BEGIN:VEVENT
UID:f33b91fcf0934318f550f89dc0b89e02@nepalicalendar.com
DTSTAMP:20260421T180610Z
DTSTART;VALUE=DATE:20251005
DTEND;VALUE=DATE:20251006
SUMMARY:विश्व शिक्षक दिवस
DESCRIPTION:विश्व शिक्षक दिवस
END:VEVENT
END:VCALENDAR