BEGIN:VCALENDAR
VERSION:2.0
PRODID:-//Nepali Calendar//EN
BEGIN:VEVENT
UID:7882d72906a684bd8a4be31995e16f24@nepalicalendar.com
DTSTAMP:20260421T180656Z
DTSTART;VALUE=DATE:20251004
DTEND;VALUE=DATE:20251005
SUMMARY:विश्व पशु दिवस
DESCRIPTION:विश्व पशु दिवस
END:VEVENT
END:VCALENDAR