BEGIN:VCALENDAR
VERSION:2.0
PRODID:-//Nepali Calendar//EN
BEGIN:VEVENT
UID:43d5feaef07d44a63beb3ae6d970c18c@nepalicalendar.com
DTSTAMP:20260421T180743Z
DTSTART;VALUE=DATE:20251004
DTEND;VALUE=DATE:20251005
SUMMARY:शनि प्रदोष व्रत
DESCRIPTION:शनि प्रदोष व्रत
END:VEVENT
END:VCALENDAR