BEGIN:VCALENDAR
VERSION:2.0
PRODID:-//Nepali Calendar//EN
BEGIN:VEVENT
UID:ca0f1c3fc835dac6f0031cdc15947583@nepalicalendar.com
DTSTAMP:20260421T180736Z
DTSTART;VALUE=DATE:20251004
DTEND;VALUE=DATE:20251005
SUMMARY:दशैं विदा
DESCRIPTION:दशैं विदा
END:VEVENT
END:VCALENDAR