BEGIN:VCALENDAR
VERSION:2.0
PRODID:-//Nepali Calendar//EN
BEGIN:VEVENT
UID:add392aacd6839df384f2b2aeade4cce@nepalicalendar.com
DTSTAMP:20260421T181316Z
DTSTART;VALUE=DATE:20251003
DTEND;VALUE=DATE:20251004
SUMMARY:विश्व मुस्कान दिवस
DESCRIPTION:विश्व मुस्कान दिवस
END:VEVENT
END:VCALENDAR