BEGIN:VCALENDAR
VERSION:2.0
PRODID:-//Nepali Calendar//EN
BEGIN:VEVENT
UID:814a0272b88b610f962aa876f6d117e3@nepalicalendar.com
DTSTAMP:20260421T180820Z
DTSTART;VALUE=DATE:20251003
DTEND;VALUE=DATE:20251004
SUMMARY:पापांकुशा एकादशी व्रत
DESCRIPTION:पापांकुशा एकादशी व्रत
END:VEVENT
END:VCALENDAR