BEGIN:VCALENDAR
VERSION:2.0
PRODID:-//Nepali Calendar//EN
BEGIN:VEVENT
UID:633d2c55a29cbaa1a52aaa750cfc388e@nepalicalendar.com
DTSTAMP:20260421T180610Z
DTSTART;VALUE=DATE:20251002
DTEND;VALUE=DATE:20251003
SUMMARY:विश्व अहिंसा दिवस
DESCRIPTION:विश्व अहिंसा दिवस
END:VEVENT
END:VCALENDAR