BEGIN:VCALENDAR
VERSION:2.0
PRODID:-//Nepali Calendar//EN
BEGIN:VEVENT
UID:4d66b9a89cc87c80a01e6d00647d5750@nepalicalendar.com
DTSTAMP:20260421T181111Z
DTSTART;VALUE=DATE:20251002
DTEND;VALUE=DATE:20251003
SUMMARY:देवी विसर्जन
DESCRIPTION:देवी विसर्जन
END:VEVENT
END:VCALENDAR