BEGIN:VCALENDAR
VERSION:2.0
PRODID:-//Nepali Calendar//EN
BEGIN:VEVENT
UID:f59d41c7fdd31cd09f16c4d675c70c02@nepalicalendar.com
DTSTAMP:20260422T010248Z
DTSTART;VALUE=DATE:20250526
DTEND;VALUE=DATE:20250527
SUMMARY:शनि जयन्ती
DESCRIPTION:शनि जयन्ती
END:VEVENT
END:VCALENDAR