BEGIN:VCALENDAR
VERSION:2.0
PRODID:-//Nepali Calendar//EN
BEGIN:VEVENT
UID:12618999981e6bf77e584e3a90f012e4@nepalicalendar.com
DTSTAMP:20260421T180819Z
DTSTART;VALUE=DATE:20251002
DTEND;VALUE=DATE:20251003
SUMMARY:विजया दशमी
DESCRIPTION:विजया दशमी
END:VEVENT
END:VCALENDAR