BEGIN:VCALENDAR
VERSION:2.0
PRODID:-//Nepali Calendar//EN
BEGIN:VEVENT
UID:387302c674b242587d56cd7df174297a@nepalicalendar.com
DTSTAMP:20260421T180744Z
DTSTART;VALUE=DATE:20251001
DTEND;VALUE=DATE:20251002
SUMMARY:अन्तर्राष्ट्रिय ज्येष्ठ नागरिक दिवस
DESCRIPTION:अन्तर्राष्ट्रिय ज्येष्ठ नागरिक दिवस
END:VEVENT
END:VCALENDAR