BEGIN:VCALENDAR
VERSION:2.0
PRODID:-//Nepali Calendar//EN
BEGIN:VEVENT
UID:f7c7a0d65e0bf9458e20d17a0c820b17@nepalicalendar.com
DTSTAMP:20260421T180609Z
DTSTART;VALUE=DATE:20251001
DTEND;VALUE=DATE:20251002
SUMMARY:महानवमी व्रत
DESCRIPTION:महानवमी व्रत
END:VEVENT
END:VCALENDAR