BEGIN:VCALENDAR
VERSION:2.0
PRODID:-//Nepali Calendar//EN
BEGIN:VEVENT
UID:a11e951693af529b1eadfdc61d4bf156@nepalicalendar.com
DTSTAMP:20260421T194218Z
DTSTART;VALUE=DATE:20250930
DTEND;VALUE=DATE:20251001
SUMMARY:भाैमाष्टमी व्रत
DESCRIPTION:भाैमाष्टमी व्रत
END:VEVENT
END:VCALENDAR