BEGIN:VCALENDAR
VERSION:2.0
PRODID:-//Nepali Calendar//EN
BEGIN:VEVENT
UID:92275a2eb2c3c302eeca9488b9e7323c@nepalicalendar.com
DTSTAMP:20260421T181252Z
DTSTART;VALUE=DATE:20250930
DTEND;VALUE=DATE:20251001
SUMMARY:गोरखकाली पूजा
DESCRIPTION:गोरखकाली पूजा
END:VEVENT
END:VCALENDAR