BEGIN:VCALENDAR
VERSION:2.0
PRODID:-//Nepali Calendar//EN
BEGIN:VEVENT
UID:3db508370f10f65636199a5e722d57f7@nepalicalendar.com
DTSTAMP:20260421T181253Z
DTSTART;VALUE=DATE:20250930
DTEND;VALUE=DATE:20251001
SUMMARY:कालरात्रि
DESCRIPTION:कालरात्रि
END:VEVENT
END:VCALENDAR