BEGIN:VCALENDAR
VERSION:2.0
PRODID:-//Nepali Calendar//EN
BEGIN:VEVENT
UID:4441eb3cf0e34e4fac70e9695cf39941@nepalicalendar.com
DTSTAMP:20260421T180938Z
DTSTART;VALUE=DATE:20250930
DTEND;VALUE=DATE:20251001
SUMMARY:महाअष्टमी व्रत
DESCRIPTION:महाअष्टमी व्रत
END:VEVENT
END:VCALENDAR