BEGIN:VCALENDAR
VERSION:2.0
PRODID:-//Nepali Calendar//EN
BEGIN:VEVENT
UID:406400b68b10dd8a53ebcf8bf3965dfd@nepalicalendar.com
DTSTAMP:20260421T180656Z
DTSTART;VALUE=DATE:20250929
DTEND;VALUE=DATE:20250930
SUMMARY:विश्व मुटु दिवस
DESCRIPTION:विश्व मुटु दिवस
END:VEVENT
END:VCALENDAR