BEGIN:VCALENDAR
VERSION:2.0
PRODID:-//Nepali Calendar//EN
BEGIN:VEVENT
UID:f52f39a37d873286479517f9e1ab20c3@nepalicalendar.com
DTSTAMP:20260421T180736Z
DTSTART;VALUE=DATE:20250929
DTEND;VALUE=DATE:20250930
SUMMARY:फूलपाती
DESCRIPTION:फूलपाती
END:VEVENT
END:VCALENDAR