BEGIN:VCALENDAR
VERSION:2.0
PRODID:-//Nepali Calendar//EN
BEGIN:VEVENT
UID:45fefa521562c768118c9803bc52a324@nepalicalendar.com
DTSTAMP:20260421T181152Z
DTSTART;VALUE=DATE:20250928
DTEND;VALUE=DATE:20250929
SUMMARY:अन्तर्राष्ट्रिय सूचनामा विश्वव्यापी पहुँचको दिवस
DESCRIPTION:अन्तर्राष्ट्रिय सूचनामा विश्वव्यापी पहुँचको दिवस
END:VEVENT
END:VCALENDAR