BEGIN:VCALENDAR
VERSION:2.0
PRODID:-//Nepali Calendar//EN
BEGIN:VEVENT
UID:f674494fcba1a32ae143c38dfd1507c8@nepalicalendar.com
DTSTAMP:20260422T010207Z
DTSTART;VALUE=DATE:20250526
DTEND;VALUE=DATE:20250527
SUMMARY:बटसावित्री व्रत
DESCRIPTION:बटसावित्री व्रत
END:VEVENT
END:VCALENDAR