BEGIN:VCALENDAR
VERSION:2.0
PRODID:-//Nepali Calendar//EN
BEGIN:VEVENT
UID:6d6d66d65f91ea276e1577b54357974d@nepalicalendar.com
DTSTAMP:20260421T181111Z
DTSTART;VALUE=DATE:20250928
DTEND;VALUE=DATE:20250929
SUMMARY:विश्व रेबिज दिवस
DESCRIPTION:विश्व रेबिज दिवस
END:VEVENT
END:VCALENDAR