BEGIN:VCALENDAR
VERSION:2.0
PRODID:-//Nepali Calendar//EN
BEGIN:VEVENT
UID:a4034ca7949bab8cfc7a3b6b331249c3@nepalicalendar.com
DTSTAMP:20260421T181034Z
DTSTART;VALUE=DATE:20250927
DTEND;VALUE=DATE:20250928
SUMMARY:विश्व पर्यटन दिवस
DESCRIPTION:विश्व पर्यटन दिवस
END:VEVENT
END:VCALENDAR