BEGIN:VCALENDAR
VERSION:2.0
PRODID:-//Nepali Calendar//EN
BEGIN:VEVENT
UID:77faef8ad7e3d32aeec3865436ab0d6f@nepalicalendar.com
DTSTAMP:20260421T180938Z
DTSTART;VALUE=DATE:20250926
DTEND;VALUE=DATE:20250927
SUMMARY:अन्तराष्ट्रिय परमाणु हतियार निर्मुल दिवस
DESCRIPTION:अन्तराष्ट्रिय परमाणु हतियार निर्मुल दिवस
END:VEVENT
END:VCALENDAR