BEGIN:VCALENDAR
VERSION:2.0
PRODID:-//Nepali Calendar//EN
BEGIN:VEVENT
UID:3ee56fc40e662d7ea9f0b8a0dc1048b0@nepalicalendar.com
DTSTAMP:20260421T181456Z
DTSTART;VALUE=DATE:20250925
DTEND;VALUE=DATE:20250926
SUMMARY:विश्व फार्मासिस्ट दिवस
DESCRIPTION:विश्व फार्मासिस्ट दिवस
END:VEVENT
END:VCALENDAR