BEGIN:VCALENDAR
VERSION:2.0
PRODID:-//Nepali Calendar//EN
BEGIN:VEVENT
UID:abe1f5b46789b8c990e328a893124898@nepalicalendar.com
DTSTAMP:20260421T181438Z
DTSTART;VALUE=DATE:20250923
DTEND;VALUE=DATE:20250924
SUMMARY:अन्तर्राष्ट्रिय सांकेतिक भाषा दिवस
DESCRIPTION:अन्तर्राष्ट्रिय सांकेतिक भाषा दिवस
END:VEVENT
END:VCALENDAR