BEGIN:VCALENDAR
VERSION:2.0
PRODID:-//Nepali Calendar//EN
BEGIN:VEVENT
UID:ca1228248fccc366efaec40afbd63eef@nepalicalendar.com
DTSTAMP:20260421T181244Z
DTSTART;VALUE=DATE:20250922
DTEND;VALUE=DATE:20250923
SUMMARY:नवरात्र आरम्भ
DESCRIPTION:नवरात्र आरम्भ
END:VEVENT
END:VCALENDAR