BEGIN:VCALENDAR
VERSION:2.0
PRODID:-//Nepali Calendar//EN
BEGIN:VEVENT
UID:56a88e24b2b17c51937822fd84fee42b@nepalicalendar.com
DTSTAMP:20260421T181456Z
DTSTART;VALUE=DATE:20250922
DTEND;VALUE=DATE:20250923
SUMMARY:घटस्थापना व्रत
DESCRIPTION:घटस्थापना व्रत
END:VEVENT
END:VCALENDAR