BEGIN:VCALENDAR
VERSION:2.0
PRODID:-//Nepali Calendar//EN
BEGIN:VEVENT
UID:84a1be0b51210fdde6510003f8d9e855@nepalicalendar.com
DTSTAMP:20260421T194659Z
DTSTART;VALUE=DATE:20250921
DTEND;VALUE=DATE:20250922
SUMMARY:विश्व शान्ति दिवस
DESCRIPTION:विश्व शान्ति दिवस
END:VEVENT
END:VCALENDAR