BEGIN:VCALENDAR
VERSION:2.0
PRODID:-//Nepali Calendar//EN
BEGIN:VEVENT
UID:f0b0290f1b2648de1d0185a5a5597bb9@nepalicalendar.com
DTSTAMP:20260421T181438Z
DTSTART;VALUE=DATE:20250921
DTEND;VALUE=DATE:20250922
SUMMARY:विश्व अल्जाइमर्स दिवस
DESCRIPTION:विश्व अल्जाइमर्स दिवस
END:VEVENT
END:VCALENDAR