BEGIN:VCALENDAR
VERSION:2.0
PRODID:-//Nepali Calendar//EN
BEGIN:VEVENT
UID:6d80a417544115ff6f3ad36bbfbb1341@nepalicalendar.com
DTSTAMP:20260421T180932Z
DTSTART;VALUE=DATE:20250921
DTEND;VALUE=DATE:20250922
SUMMARY:पितृ विसर्जन
DESCRIPTION:पितृ विसर्जन
END:VEVENT
END:VCALENDAR