BEGIN:VCALENDAR
VERSION:2.0
PRODID:-//Nepali Calendar//EN
BEGIN:VEVENT
UID:b506a73635316be12039ba188484f982@nepalicalendar.com
DTSTAMP:20260422T010247Z
DTSTART;VALUE=DATE:20250525
DTEND;VALUE=DATE:20250526
SUMMARY:सिथि चःह्रे
DESCRIPTION:सिथि चःह्रे
END:VEVENT
END:VCALENDAR