BEGIN:VCALENDAR
VERSION:2.0
PRODID:-//Nepali Calendar//EN
BEGIN:VEVENT
UID:303263b302e10dd8e8d9df2dcd09d5f2@nepalicalendar.com
DTSTAMP:20260421T180917Z
DTSTART;VALUE=DATE:20250921
DTEND;VALUE=DATE:20250922
SUMMARY:औंसी श्राद्ध
DESCRIPTION:औंसी श्राद्ध
END:VEVENT
END:VCALENDAR