BEGIN:VCALENDAR
VERSION:2.0
PRODID:-//Nepali Calendar//EN
BEGIN:VEVENT
UID:72f1352cfe0da84bf9436b1bd80b0b7d@nepalicalendar.com
DTSTAMP:20260421T181034Z
DTSTART;VALUE=DATE:20250920
DTEND;VALUE=DATE:20250921
SUMMARY:चतुर्दशी श्राद्ध
DESCRIPTION:चतुर्दशी श्राद्ध
END:VEVENT
END:VCALENDAR