BEGIN:VCALENDAR
VERSION:2.0
PRODID:-//Nepali Calendar//EN
BEGIN:VEVENT
UID:26c66d2a7de48f63ae58cc1e9d903092@nepalicalendar.com
DTSTAMP:20260421T181407Z
DTSTART;VALUE=DATE:20250919
DTEND;VALUE=DATE:20250920
SUMMARY:संविधान दिवस
DESCRIPTION:संविधान दिवस
END:VEVENT
END:VCALENDAR