BEGIN:VCALENDAR
VERSION:2.0
PRODID:-//Nepali Calendar//EN
BEGIN:VEVENT
UID:a392c9d989f632d2a29a7fc5c2bd1da6@nepalicalendar.com
DTSTAMP:20260421T181456Z
DTSTART;VALUE=DATE:20250919
DTEND;VALUE=DATE:20250920
SUMMARY:मघा श्राद्ध
DESCRIPTION:मघा श्राद्ध
END:VEVENT
END:VCALENDAR